BEGIN:VCALENDAR
VERSION:2.0
PRODID:-//OmniMagnetCalendar//EN
BEGIN:VEVENT
DTSTAMP:20190625T195740Z
STATUS:CONFIRMED
UID:hcvirginia.clubs.harvard.edu210
DTSTART:20241123T163000Z
DTEND:20241123T210000Z
LOCATION:Wood and Iron - Short Pump, 12288 W Broad St, Henrico, VA, 23233, USA,
SUMMARY:2024 Harvard-Yale Game Viewing Party
DESCRIPTION:
BEGIN:VALARM
TRIGGER:-PT15M
ACTION:DISPLAY
END:VALARM
TRANSP:OPAQUE
END:VEVENT
END:VCALENDAR
