BEGIN:VCALENDAR
VERSION:2.0
PRODID:-//OmniMagnetCalendar//EN
BEGIN:VEVENT
DTSTAMP:20190625T195740Z
STATUS:CONFIRMED
UID:hcvirginia.clubs.harvard.edu209
DTSTART:20231118T163000Z
DTEND:20231118T210000Z
LOCATION:Bandito's Burrito Lounge, 2905 Patterson Avenue, Richmond, VA, 23221,
SUMMARY:Harvard-Yale Game Viewing Party
DESCRIPTION:
BEGIN:VALARM
TRIGGER:-PT15M
ACTION:DISPLAY
END:VALARM
TRANSP:OPAQUE
END:VEVENT
END:VCALENDAR
