BEGIN:VCALENDAR
VERSION:2.0
PRODID:-//OmniMagnetCalendar//EN
BEGIN:VEVENT
DTSTAMP:20190625T195740Z
STATUS:CONFIRMED
UID:hcvirginia.clubs.harvard.edu206
DTSTART:20230519T220000Z
DTEND:20230520T000000Z
LOCATION:Brambly Park, 1708 Belleville Street, Richmond, VA, 23230,
SUMMARY:Ivy League Alumni, Family, and Friends Social at Brambly Park Winery
DESCRIPTION:
BEGIN:VALARM
TRIGGER:-PT15M
ACTION:DISPLAY
END:VALARM
TRANSP:OPAQUE
END:VEVENT
END:VCALENDAR
